Package: RProtoBufLib Version: 2.23.0 Command: rm -rf RProtoBufLib.buildbin-libdir && mkdir RProtoBufLib.buildbin-libdir && /Users/biocbuild/BBS/utils/build-universal.sh RProtoBufLib_2.23.0.tar.gz /Library/Frameworks/R.framework/Resources/bin/R RProtoBufLib.buildbin-libdir StartedAt: 2025-11-13 23:54:00 -0500 (Thu, 13 Nov 2025) EndedAt: 2025-11-13 23:56:05 -0500 (Thu, 13 Nov 2025) EllapsedTime: 124.7 seconds RetCode: 0 Status: OK PackageFile: RProtoBufLib_2.23.0.tgz PackageFileSize: 3.157 MiB