Package: RProtoBufLib Version: 2.23.0 Maintainer: Mike Jiang MaintainerEmail: mike at ozette.ai git_url: https://git.bioconductor.org/packages/RProtoBufLib git_branch: devel git_last_commit: d280051 git_last_commit_date: 2025-10-29 10:39:12 -0500 (Wed, 29 Oct 2025)