Package: ROntoTools Version: 2.39.0 Command: /home/biocbuild/bbs-3.23-bioc/R/bin/R CMD INSTALL ROntoTools StartedAt: 2025-11-13 15:25:19 -0500 (Thu, 13 Nov 2025) EndedAt: 2025-11-13 15:25:32 -0500 (Thu, 13 Nov 2025) EllapsedTime: 13.1 seconds RetCode: 0 Status: OK