Package: ROntoTools Version: 2.39.0 Command: /Library/Frameworks/R.framework/Resources/bin/R CMD INSTALL ROntoTools StartedAt: 2025-11-13 15:08:48 -0500 (Thu, 13 Nov 2025) EndedAt: 2025-11-13 15:08:53 -0500 (Thu, 13 Nov 2025) EllapsedTime: 5.2 seconds RetCode: 0 Status: OK