Package: ROntoTools Version: 2.39.0 Command: /Library/Frameworks/R.framework/Resources/bin/R CMD build --keep-empty-dirs --no-resave-data ROntoTools StartedAt: 2025-11-14 17:29:18 -0500 (Fri, 14 Nov 2025) EndedAt: 2025-11-14 17:29:36 -0500 (Fri, 14 Nov 2025) EllapsedTime: 18.2 seconds RetCode: 0 Status: OK PackageFile: ROntoTools_2.39.0.tar.gz PackageFileSize: 1.487 MiB