Package: ROntoTools Version: 2.39.0 Maintainer: Sorin Draghici MaintainerEmail: sorin at advaitabio.com git_url: https://git.bioconductor.org/packages/ROntoTools git_branch: devel git_last_commit: 5a6e829 git_last_commit_date: 2025-10-29 10:14:20 -0500 (Wed, 29 Oct 2025)