Package: ROSeq Version: 1.23.0 Command: /home/biocbuild/bbs-3.23-bioc/R/bin/R CMD build --keep-empty-dirs --no-resave-data ROSeq StartedAt: 2025-11-13 19:42:35 -0500 (Thu, 13 Nov 2025) EndedAt: 2025-11-13 19:46:13 -0500 (Thu, 13 Nov 2025) EllapsedTime: 217.3 seconds RetCode: 0 Status: OK PackageFile: ROSeq_1.23.0.tar.gz PackageFileSize: 4.19 MiB