Package: ROSeq Version: 1.23.0 Command: /Library/Frameworks/R.framework/Resources/bin/R CMD INSTALL ROSeq StartedAt: 2025-11-13 15:02:07 -0500 (Thu, 13 Nov 2025) EndedAt: 2025-11-13 15:02:16 -0500 (Thu, 13 Nov 2025) EllapsedTime: 9.3 seconds RetCode: 0 Status: OK