Package: ROSeq Version: 1.23.0 Command: /Library/Frameworks/R.framework/Resources/bin/R CMD build --keep-empty-dirs --no-resave-data ROSeq StartedAt: 2025-11-13 17:32:21 -0500 (Thu, 13 Nov 2025) EndedAt: 2025-11-13 17:33:58 -0500 (Thu, 13 Nov 2025) EllapsedTime: 97.1 seconds RetCode: 0 Status: OK PackageFile: ROSeq_1.23.0.tar.gz PackageFileSize: 4.191 MiB