Package: ROSeq Version: 1.23.0 Maintainer: Krishan Gupta MaintainerEmail: krishang at iiitd.ac.in git_url: https://git.bioconductor.org/packages/ROSeq git_branch: devel git_last_commit: da1505d git_last_commit_date: 2025-10-29 10:58:57 -0500 (Wed, 29 Oct 2025)