Package: ROCpAI Version: 1.23.0 Command: /Library/Frameworks/R.framework/Resources/bin/R CMD build --keep-empty-dirs --no-resave-data ROCpAI StartedAt: 2025-11-14 17:29:06 -0500 (Fri, 14 Nov 2025) EndedAt: 2025-11-14 17:29:20 -0500 (Fri, 14 Nov 2025) EllapsedTime: 14.2 seconds RetCode: 0 Status: OK PackageFile: ROCpAI_1.23.0.tar.gz PackageFileSize: 427 KiB