Package: ROCpAI Version: 1.23.0 Command: rm -rf ROCpAI.buildbin-libdir && mkdir ROCpAI.buildbin-libdir && /Users/biocbuild/BBS/utils/build-universal.sh ROCpAI_1.23.0.tar.gz /Library/Frameworks/R.framework/Resources/bin/R ROCpAI.buildbin-libdir StartedAt: 2025-11-14 23:48:59 -0500 (Fri, 14 Nov 2025) EndedAt: 2025-11-14 23:49:10 -0500 (Fri, 14 Nov 2025) EllapsedTime: 10.1 seconds RetCode: 0 Status: OK PackageFile: ROCpAI_1.23.0.tgz PackageFileSize: 466.2 KiB