Package: ROCpAI Version: 1.23.0 Maintainer: Juan-Pedro Garcia MaintainerEmail: juanpedro.garcia4 at um.es git_url: https://git.bioconductor.org/packages/ROCpAI git_branch: devel git_last_commit: c0493ad git_last_commit_date: 2025-10-29 10:57:51 -0500 (Wed, 29 Oct 2025)