Package: ROC Version: 1.87.0 Command: /Library/Frameworks/R.framework/Resources/bin/R CMD INSTALL ROC StartedAt: 2025-11-13 15:03:21 -0500 (Thu, 13 Nov 2025) EndedAt: 2025-11-13 15:03:28 -0500 (Thu, 13 Nov 2025) EllapsedTime: 7.2 seconds RetCode: 0 Status: OK