Package: ROC Version: 1.87.0 Command: /Library/Frameworks/R.framework/Resources/bin/R CMD build --keep-empty-dirs --no-resave-data ROC StartedAt: 2025-11-13 17:31:58 -0500 (Thu, 13 Nov 2025) EndedAt: 2025-11-13 17:32:01 -0500 (Thu, 13 Nov 2025) EllapsedTime: 3.0 seconds RetCode: 0 Status: OK PackageFile: ROC_1.87.0.tar.gz PackageFileSize: 250.8 KiB