Package: ROC Version: 1.87.0 Command: rm -rf ROC.buildbin-libdir && mkdir ROC.buildbin-libdir && /Users/biocbuild/BBS/utils/build-universal.sh ROC_1.87.0.tar.gz /Library/Frameworks/R.framework/Resources/bin/R ROC.buildbin-libdir StartedAt: 2025-11-14 23:48:59 -0500 (Fri, 14 Nov 2025) EndedAt: 2025-11-14 23:49:02 -0500 (Fri, 14 Nov 2025) EllapsedTime: 3.1 seconds RetCode: 0 Status: OK PackageFile: ROC_1.87.0.tgz PackageFileSize: 271.4 KiB