Package: RNAseqCovarImpute Version: 1.9.0 Command: /Library/Frameworks/R.framework/Resources/bin/R CMD build --keep-empty-dirs --no-resave-data RNAseqCovarImpute StartedAt: 2025-11-14 17:28:46 -0500 (Fri, 14 Nov 2025) EndedAt: 2025-11-14 17:29:05 -0500 (Fri, 14 Nov 2025) EllapsedTime: 19.2 seconds RetCode: 0 Status: OK PackageFile: RNAseqCovarImpute_1.9.0.tar.gz PackageFileSize: 767.8 KiB