Package: RNAseqCovarImpute Version: 1.9.0 Command: rm -rf RNAseqCovarImpute.buildbin-libdir && mkdir RNAseqCovarImpute.buildbin-libdir && /Users/biocbuild/BBS/utils/build-universal.sh RNAseqCovarImpute_1.9.0.tar.gz /Library/Frameworks/R.framework/Resources/bin/R RNAseqCovarImpute.buildbin-libdir StartedAt: 2025-11-14 23:48:51 -0500 (Fri, 14 Nov 2025) EndedAt: 2025-11-14 23:48:57 -0500 (Fri, 14 Nov 2025) EllapsedTime: 6.1 seconds RetCode: 0 Status: OK PackageFile: RNAseqCovarImpute_1.9.0.tgz PackageFileSize: 801.5 KiB