Package: RNAmodR Version: 1.25.0 Command: /home/biocbuild/bbs-3.23-bioc/R/bin/R CMD INSTALL RNAmodR StartedAt: 2025-11-11 15:52:01 -0500 (Tue, 11 Nov 2025) EndedAt: 2025-11-11 15:52:18 -0500 (Tue, 11 Nov 2025) EllapsedTime: 16.7 seconds RetCode: 1 Status: ERROR