Package: RNAmodR Version: 1.25.0 Command: /home/biocbuild/bbs-3.23-bioc/R/bin/R CMD build --keep-empty-dirs --no-resave-data RNAmodR StartedAt: 2025-11-11 19:45:31 -0500 (Tue, 11 Nov 2025) EndedAt: 2025-11-11 19:45:48 -0500 (Tue, 11 Nov 2025) EllapsedTime: 17.0 seconds RetCode: 1 Status: ERROR PackageFile: None PackageFileSize: NA