Package: RNAmodR Version: 1.25.0 Command: /Library/Frameworks/R.framework/Resources/bin/R CMD build --keep-empty-dirs --no-resave-data RNAmodR StartedAt: 2025-11-13 17:31:22 -0500 (Thu, 13 Nov 2025) EndedAt: 2025-11-13 17:31:23 -0500 (Thu, 13 Nov 2025) EllapsedTime: 1.0 seconds RetCode: 1 Status: ERROR PackageFile: None PackageFileSize: NA