############################################################################## ############################################################################## ### ### Running command: ### ### /Library/Frameworks/R.framework/Resources/bin/R CMD build --keep-empty-dirs --no-resave-data RNAmodR ### ############################################################################## ############################################################################## * checking for file ‘RNAmodR/DESCRIPTION’ ... OK * preparing ‘RNAmodR’: * checking DESCRIPTION meta-information ... OK * installing the package (it is needed to build vignettes) ----------------------------------- ERROR: dependency ‘Modstrings’ is not available for package ‘RNAmodR’ Perhaps try a variation of: install.packages('Modstrings') * removing ‘/private/var/folders/r0/l4fjk6cj5xj0j3brt4bplpl40000gt/T/Rtmpv9iIzh/Rinst17a85630bf54/RNAmodR’ ----------------------------------- ERROR: package installation failed