Package: RNAmodR.RiboMethSeq Version: 1.25.0 Command: /home/biocbuild/bbs-3.23-bioc/R/bin/R CMD INSTALL RNAmodR.RiboMethSeq StartedAt: 2025-11-13 15:48:17 -0500 (Thu, 13 Nov 2025) EndedAt: 2025-11-13 15:49:14 -0500 (Thu, 13 Nov 2025) EllapsedTime: 57.2 seconds RetCode: 0 Status: OK