Package: RNAmodR.RiboMethSeq Version: 1.25.0 Command: /Library/Frameworks/R.framework/Resources/bin/R CMD INSTALL RNAmodR.RiboMethSeq StartedAt: 2025-11-13 15:26:18 -0500 (Thu, 13 Nov 2025) EndedAt: 2025-11-13 15:26:19 -0500 (Thu, 13 Nov 2025) EllapsedTime: 1.1 seconds RetCode: 1 Status: ERROR