############################################################################## ############################################################################## ### ### Running command: ### ### /Library/Frameworks/R.framework/Resources/bin/R CMD build --keep-empty-dirs --no-resave-data RNAmodR.RiboMethSeq ### ############################################################################## ############################################################################## * checking for file ‘RNAmodR.RiboMethSeq/DESCRIPTION’ ... OK * preparing ‘RNAmodR.RiboMethSeq’: * checking DESCRIPTION meta-information ... OK * installing the package (it is needed to build vignettes) ----------------------------------- ERROR: dependency ‘RNAmodR’ is not available for package ‘RNAmodR.RiboMethSeq’ Perhaps try a variation of: install.packages('RNAmodR') * removing ‘/private/var/folders/r0/l4fjk6cj5xj0j3brt4bplpl40000gt/T/Rtmpy84FlG/Rinstf8c13045d180/RNAmodR.RiboMethSeq’ ----------------------------------- ERROR: package installation failed