Package: RNAmodR.ML Version: 1.25.0 Command: /home/biocbuild/bbs-3.23-bioc/R/bin/R CMD INSTALL RNAmodR.ML StartedAt: 2025-11-11 15:52:47 -0500 (Tue, 11 Nov 2025) EndedAt: 2025-11-11 15:53:46 -0500 (Tue, 11 Nov 2025) EllapsedTime: 59.1 seconds RetCode: 0 Status: OK