Package: RNAmodR.ML Version: 1.25.0 Command: /Library/Frameworks/R.framework/Resources/bin/R CMD INSTALL RNAmodR.ML StartedAt: 2025-11-13 15:26:52 -0500 (Thu, 13 Nov 2025) EndedAt: 2025-11-13 15:26:53 -0500 (Thu, 13 Nov 2025) EllapsedTime: 1.2 seconds RetCode: 1 Status: ERROR