############################################################################## ############################################################################## ### ### Running command: ### ### /Library/Frameworks/R.framework/Resources/bin/R CMD build --keep-empty-dirs --no-resave-data RNAmodR.ML ### ############################################################################## ############################################################################## * checking for file ‘RNAmodR.ML/DESCRIPTION’ ... OK * preparing ‘RNAmodR.ML’: * checking DESCRIPTION meta-information ... OK * installing the package (it is needed to build vignettes) ----------------------------------- ERROR: dependency ‘RNAmodR’ is not available for package ‘RNAmodR.ML’ Perhaps try a variation of: install.packages('RNAmodR') * removing ‘/private/var/folders/r0/l4fjk6cj5xj0j3brt4bplpl40000gt/T/Rtmpe8JKCU/Rinst182c7048a9f6/RNAmodR.ML’ ----------------------------------- ERROR: package installation failed