Package: RNAmodR.AlkAnilineSeq Version: 1.25.0 Command: /home/biocbuild/bbs-3.23-bioc/R/bin/R CMD INSTALL RNAmodR.AlkAnilineSeq StartedAt: 2025-11-11 15:52:22 -0500 (Tue, 11 Nov 2025) EndedAt: 2025-11-11 15:53:21 -0500 (Tue, 11 Nov 2025) EllapsedTime: 58.4 seconds RetCode: 0 Status: OK