Package: RNAmodR.AlkAnilineSeq Version: 1.25.0 Command: /home/biocbuild/bbs-3.23-bioc/R/bin/R CMD build --keep-empty-dirs --no-resave-data RNAmodR.AlkAnilineSeq StartedAt: 2025-11-13 19:40:24 -0500 (Thu, 13 Nov 2025) EndedAt: 2025-11-13 19:42:10 -0500 (Thu, 13 Nov 2025) EllapsedTime: 106.1 seconds RetCode: 1 Status: ERROR PackageFile: None PackageFileSize: NA