Package: RNAmodR.AlkAnilineSeq Version: 1.25.0 Command: /Library/Frameworks/R.framework/Resources/bin/R CMD INSTALL RNAmodR.AlkAnilineSeq StartedAt: 2025-11-12 15:43:36 -0500 (Wed, 12 Nov 2025) EndedAt: 2025-11-12 15:43:37 -0500 (Wed, 12 Nov 2025) EllapsedTime: 1.1 seconds RetCode: 1 Status: ERROR