Package: RNAdecay Version: 1.31.0 Command: /home/biocbuild/bbs-3.23-bioc/R/bin/R CMD build --keep-empty-dirs --no-resave-data RNAdecay StartedAt: 2025-11-21 19:41:23 -0500 (Fri, 21 Nov 2025) EndedAt: 2025-11-21 19:52:08 -0500 (Fri, 21 Nov 2025) EllapsedTime: 644.7 seconds RetCode: 0 Status: OK PackageFile: RNAdecay_1.31.0.tar.gz PackageFileSize: 2.709 MiB