Package: RNAdecay Version: 1.31.0 Command: /Library/Frameworks/R.framework/Resources/bin/R CMD INSTALL RNAdecay StartedAt: 2025-11-14 15:05:14 -0500 (Fri, 14 Nov 2025) EndedAt: 2025-11-14 15:06:57 -0500 (Fri, 14 Nov 2025) EllapsedTime: 102.2 seconds RetCode: 0 Status: OK