Package: RNAdecay Version: 1.31.0 Command: /Library/Frameworks/R.framework/Resources/bin/R CMD build --keep-empty-dirs --no-resave-data RNAdecay StartedAt: 2025-11-14 17:28:27 -0500 (Fri, 14 Nov 2025) EndedAt: 2025-11-14 17:31:35 -0500 (Fri, 14 Nov 2025) EllapsedTime: 188.2 seconds RetCode: 0 Status: OK PackageFile: RNAdecay_1.31.0.tar.gz PackageFileSize: 2.709 MiB