Package: RNAdecay Version: 1.31.0 Command: rm -rf RNAdecay.buildbin-libdir && mkdir RNAdecay.buildbin-libdir && /Users/biocbuild/BBS/utils/build-universal.sh RNAdecay_1.31.0.tar.gz /Library/Frameworks/R.framework/Resources/bin/R RNAdecay.buildbin-libdir StartedAt: 2025-11-14 23:48:40 -0500 (Fri, 14 Nov 2025) EndedAt: 2025-11-14 23:50:55 -0500 (Fri, 14 Nov 2025) EllapsedTime: 134.6 seconds RetCode: 0 Status: OK PackageFile: RNAdecay_1.31.0.tgz PackageFileSize: 5.141 MiB