Package: RNASeqPower Version: 1.51.0 Command: /Library/Frameworks/R.framework/Resources/bin/R CMD INSTALL RNASeqPower StartedAt: 2025-11-14 15:01:51 -0500 (Fri, 14 Nov 2025) EndedAt: 2025-11-14 15:01:56 -0500 (Fri, 14 Nov 2025) EllapsedTime: 4.2 seconds RetCode: 0 Status: OK