Package: RNASeqPower Version: 1.51.0 Maintainer: Terry M Therneau MaintainerEmail: therneau.terry at mayo.edu git_url: https://git.bioconductor.org/packages/RNASeqPower git_branch: devel git_last_commit: 4968608 git_last_commit_date: 2025-10-29 10:14:04 -0500 (Wed, 29 Oct 2025)