Package: RNAAgeCalc Version: 1.23.0 Command: /home/biocbuild/bbs-3.23-bioc/R/bin/R CMD INSTALL RNAAgeCalc StartedAt: 2025-11-14 16:00:46 -0500 (Fri, 14 Nov 2025) EndedAt: 2025-11-14 16:01:39 -0500 (Fri, 14 Nov 2025) EllapsedTime: 52.7 seconds RetCode: 0 Status: OK