Package: RNAAgeCalc Version: 1.23.0 Command: /home/biocbuild/bbs-3.23-bioc/R/bin/R CMD build --keep-empty-dirs --no-resave-data RNAAgeCalc StartedAt: 2025-11-13 19:40:06 -0500 (Thu, 13 Nov 2025) EndedAt: 2025-11-13 19:41:16 -0500 (Thu, 13 Nov 2025) EllapsedTime: 70.1 seconds RetCode: 0 Status: OK PackageFile: RNAAgeCalc_1.23.0.tar.gz PackageFileSize: 3.32 MiB