Package: RLassoCox Version: 1.19.0 Command: /home/biocbuild/bbs-3.23-bioc/R/bin/R CMD INSTALL RLassoCox StartedAt: 2025-11-14 15:06:46 -0500 (Fri, 14 Nov 2025) EndedAt: 2025-11-14 15:07:21 -0500 (Fri, 14 Nov 2025) EllapsedTime: 35.2 seconds RetCode: 0 Status: OK