Package: RLassoCox Version: 1.19.0 Command: /home/biocbuild/bbs-3.23-bioc/R/bin/R CMD build --keep-empty-dirs --no-resave-data RLassoCox StartedAt: 2025-11-14 19:38:59 -0500 (Fri, 14 Nov 2025) EndedAt: 2025-11-14 19:40:17 -0500 (Fri, 14 Nov 2025) EllapsedTime: 78.0 seconds RetCode: 0 Status: OK PackageFile: RLassoCox_1.19.0.tar.gz PackageFileSize: 2.005 MiB