Package: RLassoCox Version: 1.19.0 Command: /Library/Frameworks/R.framework/Resources/bin/R CMD INSTALL RLassoCox StartedAt: 2025-11-13 15:03:30 -0500 (Thu, 13 Nov 2025) EndedAt: 2025-11-13 15:03:45 -0500 (Thu, 13 Nov 2025) EllapsedTime: 15.7 seconds RetCode: 0 Status: OK