Package: RLassoCox Version: 1.19.0 Maintainer: Wei Liu MaintainerEmail: freelw at qq.com git_url: https://git.bioconductor.org/packages/RLassoCox git_branch: devel git_last_commit: 3312604 git_last_commit_date: 2025-10-29 11:04:52 -0500 (Wed, 29 Oct 2025)