Package: RLMM Version: 1.73.0 Command: /Library/Frameworks/R.framework/Resources/bin/R CMD INSTALL RLMM StartedAt: 2025-11-13 15:01:44 -0500 (Thu, 13 Nov 2025) EndedAt: 2025-11-13 15:01:48 -0500 (Thu, 13 Nov 2025) EllapsedTime: 4.6 seconds RetCode: 0 Status: OK