Package: RLMM Version: 1.73.0 Command: /Library/Frameworks/R.framework/Resources/bin/R CMD build --keep-empty-dirs --no-resave-data RLMM StartedAt: 2025-11-13 17:30:51 -0500 (Thu, 13 Nov 2025) EndedAt: 2025-11-13 17:30:55 -0500 (Thu, 13 Nov 2025) EllapsedTime: 4.0 seconds RetCode: 0 Status: OK PackageFile: RLMM_1.73.0.tar.gz PackageFileSize: 419.9 KiB