Package: RLMM Version: 1.73.0 Command: rm -rf RLMM.buildbin-libdir && mkdir RLMM.buildbin-libdir && /Users/biocbuild/BBS/utils/build-universal.sh RLMM_1.73.0.tar.gz /Library/Frameworks/R.framework/Resources/bin/R RLMM.buildbin-libdir StartedAt: 2025-11-13 23:53:27 -0500 (Thu, 13 Nov 2025) EndedAt: 2025-11-13 23:53:29 -0500 (Thu, 13 Nov 2025) EllapsedTime: 2.0 seconds RetCode: 0 Status: OK PackageFile: RLMM_1.73.0.tgz PackageFileSize: 372.3 KiB