Package: RLMM Version: 1.73.0 Maintainer: Nusrat Rabbee MaintainerEmail: nrabbee at post.harvard.edu git_url: https://git.bioconductor.org/packages/RLMM git_branch: devel git_last_commit: b928d91 git_last_commit_date: 2025-10-29 09:57:08 -0500 (Wed, 29 Oct 2025)