Package: RIVER Version: 1.35.0 Command: /home/biocbuild/bbs-3.23-bioc/R/bin/R CMD build --keep-empty-dirs --no-resave-data RIVER StartedAt: 2025-11-21 19:39:57 -0500 (Fri, 21 Nov 2025) EndedAt: 2025-11-21 19:40:21 -0500 (Fri, 21 Nov 2025) EllapsedTime: 24.0 seconds RetCode: 0 Status: OK PackageFile: RIVER_1.35.0.tar.gz PackageFileSize: 1.458 MiB