Package: RIVER Version: 1.35.0 Command: /Library/Frameworks/R.framework/Resources/bin/R CMD INSTALL RIVER StartedAt: 2025-11-13 15:07:09 -0500 (Thu, 13 Nov 2025) EndedAt: 2025-11-13 15:07:13 -0500 (Thu, 13 Nov 2025) EllapsedTime: 3.7 seconds RetCode: 0 Status: OK