Package: RIVER Version: 1.35.0 Command: rm -rf RIVER.buildbin-libdir && mkdir RIVER.buildbin-libdir && /Users/biocbuild/BBS/utils/build-universal.sh RIVER_1.35.0.tar.gz /Library/Frameworks/R.framework/Resources/bin/R RIVER.buildbin-libdir StartedAt: 2025-11-13 23:53:22 -0500 (Thu, 13 Nov 2025) EndedAt: 2025-11-13 23:53:27 -0500 (Thu, 13 Nov 2025) EllapsedTime: 5.1 seconds RetCode: 0 Status: OK PackageFile: RIVER_1.35.0.tgz PackageFileSize: 1.505 MiB